BEGIN:VCALENDAR
VERSION:2.0
PRODID:-//eventon.com NONSGML v1.0//EN
CALSCALE:GREGORIAN
METHOD:PUBLISH
BEGIN:VEVENT
UID:69ecd139c0b50
DTSTAMP:20260425T143537Z
DTSTART:20260321T150000Z
DTEND:20260321T210000Z
LOCATION:Horní Řasnice / Kulturní dům Horní Řasnice 83\,  464 01 Horní Řasnice\,  Česko
SUMMARY:Slet řasnických andělů a Zdeněk Okleštěk
DESCRIPTION:V sobotu 21. března 2026 od 16 hodin se v Kulturním domě U k
 ostela v Horní Řasnici uskuteční setkání s názvem Slet řasnických 
 andělů. Součástí programu bude předání ocenění Řasnický anděl 
 2025 za přínos místní komunitě. Hudební část večera obstará Zden
 k Okleštěk\,  který zazpívá písničky Jiřího Suchého a Petra Skou
 mala.[..]\nhttps://www.frydlantsko.eu/events/slet-rasnickych-andelu-2026/
URL:https://www.frydlantsko.eu/events/slet-rasnickych-andelu-2026/
END:VEVENT
END:VCALENDAR