BEGIN:VCALENDAR
VERSION:2.0
PRODID:-//eventon.com NONSGML v1.0//EN
CALSCALE:GREGORIAN
METHOD:PUBLISH
BEGIN:VEVENT
UID:69ecc01c34f91
DTSTAMP:20260425T132236Z
DTSTART:20260329T070000Z
DTEND:20260405T080000Z
LOCATION:
SUMMARY:Velikonoční triduum
DESCRIPTION:Římskokatolické farnosti Hejnice\,  Raspenava\,  Frýdlant a
  Nové Město p. S. zvou na Velikonoční triduum. Květná neděle\,  29. 
 3. Mše svatá s žehnáním\,  Hejnice 9:00 Zelený čtvrtek\,  2. 4. Mše
  svatá na památku poslední večeře Páně Hejnice 18:00 obřad mytí no
 hou\,  adorace v Getsemanské zahradě Velký pátek\,  3. 4. Hejnice\,  15
 :00[..]\nhttps://www.frydlantsko.eu/events/velikonocni-triduum-2026/
URL:https://www.frydlantsko.eu/events/velikonocni-triduum-2026/
END:VEVENT
END:VCALENDAR