BEGIN:VCALENDAR
VERSION:2.0
PRODID:-//eventon.com NONSGML v1.0//EN
CALSCALE:GREGORIAN
METHOD:PUBLISH
BEGIN:VEVENT
UID:69ec961279c31
DTSTAMP:20260425T102314Z
DTSTART:20260328T140000Z
DTEND:20260329T153000Z
LOCATION:Dětřichov\,  Kostel sv. Anny Dětřichov\,  Liberecký kraj\,  Česko
SUMMARY:Velikonoce v Křišťálovém údolí
DESCRIPTION:Velikonoce v Křišťálovém údolí v Dětřichově o víkend
 u 28.3. a 29.3. 2026 areál kostela sv. Anny v Dětřichově s Křížovou 
 cestou smíření. Zahrada je volně přístupná a kostel bude otevřen po
  oba dny od 15\, 00- 17\, 30 hod. Visit Crystal Valley\nhttps://www.frydlan
 tsko.eu/events/velikonoce-v-kristalovem-udoli/
URL:https://www.frydlantsko.eu/events/velikonoce-v-kristalovem-udoli/
END:VEVENT
END:VCALENDAR