BEGIN:VCALENDAR
VERSION:2.0
PRODID:-//eventon.com NONSGML v1.0//EN
CALSCALE:GREGORIAN
METHOD:PUBLISH
BEGIN:VEVENT
UID:69ec96121751a
DTSTAMP:20260425T102314Z
DTSTART:20260328T090000Z
DTEND:20260328T150000Z
LOCATION:nám. T. G. Masaryka\,  Frýdlant Frýdlant\,  Česko
SUMMARY:Velikonoční jarmark ve Frýdlantu
DESCRIPTION:Město Frýdlant zve občany i návštěvníky na Velikonoční
  jarmark\,  který se uskuteční v sobotu 28. března 2026 od 10:00 do 16:
 00 hodin na náměstí T. G. Masaryka\,  radnici a ve výstavní síni radn
 ice. Připraven je jarmark s pestrou nabídkou zboží\,  doprovodný kultu
 rní program a tematické dílničky.\nhttps://www.frydlantsko.eu/events/ve
 likonocni-jarmark-ve-frydlantu-2/
URL:https://www.frydlantsko.eu/events/velikonocni-jarmark-ve-frydlantu-2/
END:VEVENT
END:VCALENDAR