BEGIN:VCALENDAR
VERSION:2.0
PRODID:-//eventon.com NONSGML v1.0//EN
CALSCALE:GREGORIAN
METHOD:PUBLISH
BEGIN:VEVENT
UID:69e74a6cde020
DTSTAMP:20260421T095908Z
DTSTART:20260522T170000Z
DTEND:20260522T190000Z
LOCATION:Kino Frýdlant Tyršova 1077\,  464 01 Frýdlant
SUMMARY:Drahá legrace – divadlo Višňovský ROK ve Frýdlantu
DESCRIPTION:Divadelní spolek Višňovský ROK uvádí francouzskou komedii
  Drahá legrace od Francise Webera v režii Michaely Jadrné. Co máte děl
 at\,  když jste už dlouho nezaměstnaný a v bance nemáte ani korunu? Po
 slat na sebe daňovou kontrolu! Možná se zdá\,  že jde o poněkud absur
 dní strategii\,  nicméně právě takovou zvolil zoufalý Francois[..]\nh
 ttps://www.frydlantsko.eu/events/draha-legrace-divadlo-visnovsky-rok-ve-fry
 dlantu/
URL:https://www.frydlantsko.eu/events/draha-legrace-divadlo-visnovsky-rok-ve-frydlantu/
END:VEVENT
END:VCALENDAR