BEGIN:VCALENDAR
VERSION:2.0
PRODID:-//eventon.com NONSGML v1.0//EN
CALSCALE:GREGORIAN
METHOD:PUBLISH
BEGIN:VEVENT
UID:69e67e5865a4e
DTSTAMP:20260420T192824Z
DTSTART:20260430T140000Z
DTEND:20260430T215900Z
LOCATION:Autokemp Hejnice 463 62 Hejnice
SUMMARY:Čarodějnice v Hejnicích
DESCRIPTION:Tradiční akce na tradičním místě. Opékání buřtů\,  v
 atra\,  soutěže pro děti\,  skákací hrad a spousta zábavy. 30. 4. 202
 6 od 16 hodin Autokemp Hejnice\nhttps://www.frydlantsko.eu/events/carodejni
 ce-v-hejnicich/
URL:https://www.frydlantsko.eu/events/carodejnice-v-hejnicich/
END:VEVENT
END:VCALENDAR