BEGIN:VCALENDAR
VERSION:2.0
PRODID:-//eventon.com NONSGML v1.0//EN
CALSCALE:GREGORIAN
METHOD:PUBLISH
BEGIN:VEVENT
UID:69ebd2f0872f3
DTSTAMP:20260424T203040Z
DTSTART:20260430T150000Z
DTEND:20260430T210000Z
LOCATION:hasičárna Minkovice\,  Višňová
SUMMARY:Pálení čarodějnic v Minkovicích
DESCRIPTION:SDH Minkovice pořádá tradiční pálení čarodějnic. 30. d
 ubna od 17 hodin u hasičárny v Minkovicích DJ / Reprodukovaná hudba / L
 ampionový průvod / Čarodějnická stezka a mnoho dalšího\nhttps://www.
 frydlantsko.eu/events/paleni-carodejnic-v-minkovicich-3/
URL:https://www.frydlantsko.eu/events/paleni-carodejnic-v-minkovicich-3/
END:VEVENT
END:VCALENDAR