BEGIN:VCALENDAR
VERSION:2.0
PRODID:-//eventon.com NONSGML v1.0//EN
CALSCALE:GREGORIAN
METHOD:PUBLISH
BEGIN:VEVENT
UID:69ebc27a2d1cc
DTSTAMP:20260424T192026Z
DTSTART:20260530T130000Z
DTEND:20260530T215900Z
LOCATION:hasičárna Minkovice\,  Višňová
SUMMARY:Kácení máje v Minkovicích
DESCRIPTION:SDH Minkovice zve na tradiční Kácení máje. 30. května od 
 15 hodin Začátek v Minkovicích u hasičárny Soutěže pro malé i dosp
 lé\,  zahraje kapela Celestýnka\,  od 20 hodin DJ Boost.\nhttps://www.fr
 ydlantsko.eu/events/kaceni-maje-v-minkovicich-2/
URL:https://www.frydlantsko.eu/events/kaceni-maje-v-minkovicich-2/
END:VEVENT
END:VCALENDAR