BEGIN:VCALENDAR
VERSION:2.0
PRODID:-//eventon.com NONSGML v1.0//EN
CALSCALE:GREGORIAN
METHOD:PUBLISH
BEGIN:VEVENT
UID:69ebd2f0844cf
DTSTAMP:20260424T203040Z
DTSTART:20260430T150000Z
DTEND:20260430T215900Z
LOCATION:Předlánce Višňová\,  Liberec Region\,  Czechia
SUMMARY:Pálení čarodějnic v Předláncích
DESCRIPTION:SDH Předlánce pořádá pálení čarodějnic 30. dubna od 17
  hodin v parku v Předláncích Soutěže pro děti\,  občerstvení\,  bu
 tíky pro děti zdarma.\nhttps://www.frydlantsko.eu/events/paleni-carodejn
 ic-v-predlancich-2026/
URL:https://www.frydlantsko.eu/events/paleni-carodejnic-v-predlancich-2026/
END:VEVENT
END:VCALENDAR