BEGIN:VCALENDAR
VERSION:2.0
PRODID:-//eventon.com NONSGML v1.0//EN
CALSCALE:GREGORIAN
METHOD:PUBLISH
BEGIN:VEVENT
UID:69ebd74a1199a
DTSTAMP:20260424T204914Z
DTSTART:20260430T160000Z
DTEND:20260430T215900Z
LOCATION:Jindřichovice pod Smrkem Jindřichovice pod Smrkem
SUMMARY:Stavění májky a čarodějnice v Jindřichovicích
DESCRIPTION:Stavění májky a pálení čarodějnic – Jindřichovice pod
  Smrkem Tradiční jarní akce pro malé i velké. Na návsi před školou 
 společně ozdobíte májku\,  kterou následně vztyčí místní hasiči.
  Těšit se můžete na vystoupení dětí\,  průvod za doprovodu kapely i
  koňského povozu na fotbalové hřiště\,  kde bude pokračovat program 
 – disco[..]\nhttps://www.frydlantsko.eu/events/staveni-majky-a-carodejnic
 e-v-jindrichovicich/
URL:https://www.frydlantsko.eu/events/staveni-majky-a-carodejnice-v-jindrichovicich/
END:VEVENT
END:VCALENDAR