BEGIN:VCALENDAR
VERSION:2.0
PRODID:-//eventon.com NONSGML v1.0//EN
CALSCALE:GREGORIAN
METHOD:PUBLISH
BEGIN:VEVENT
UID:69ebe517386d5
DTSTAMP:20260424T214807Z
DTSTART:20260425T173000Z
DTEND:20260425T215900Z
LOCATION:Dolní Řasnice Dolní Řasnice
SUMMARY:Pálení čarodějnic v Dolní Řasnici
DESCRIPTION:Pálení čarodějnic se uskuteční 25. dubna 2026. Sraz úča
 stníků je naplánován na parkovišti u čápů v 19:30. Odtud se společ
 ně přesuneme v průvodu na fotbalové hřiště\,  kde dojde k zažehnut
  vatry. Po setmění se můžete těšit na ohňovou Fire show\,  která p
 řinese nezapomenutelný zážitek.\nhttps://www.frydlantsko.eu/events/pale
 ni-carodejnic-v-dolni-rasnici-2/
URL:https://www.frydlantsko.eu/events/paleni-carodejnic-v-dolni-rasnici-2/
END:VEVENT
END:VCALENDAR